BEGIN:VCALENDAR
VERSION:2.0
PRODID:-//Lindfield Bonfire Society - ECPv6.15.20//NONSGML v1.0//EN
CALSCALE:GREGORIAN
METHOD:PUBLISH
X-ORIGINAL-URL:https://lindfieldbonfiresociety.co.uk
X-WR-CALDESC:Events for Lindfield Bonfire Society
REFRESH-INTERVAL;VALUE=DURATION:PT1H
X-Robots-Tag:noindex
X-PUBLISHED-TTL:PT1H
BEGIN:VTIMEZONE
TZID:UTC
BEGIN:STANDARD
TZOFFSETFROM:+0000
TZOFFSETTO:+0000
TZNAME:UTC
DTSTART:20240101T000000
END:STANDARD
END:VTIMEZONE
BEGIN:VEVENT
DTSTART;TZID=UTC:20251218T200000
DTEND;TZID=UTC:20251218T210000
DTSTAMP:20260421T105935
CREATED:20250819T120356Z
LAST-MODIFIED:20250819T120356Z
UID:9725-1766088000-1766091600@lindfieldbonfiresociety.co.uk
SUMMARY:LBS Committee Meeting
DESCRIPTION:
URL:https://lindfieldbonfiresociety.co.uk/event/lbs-committee-meeting-14/
LOCATION:King Edward Hall\, KIng Edward Hall\, Lindfield
CATEGORIES:Committee Meeting
END:VEVENT
BEGIN:VEVENT
DTSTART;TZID=UTC:20251120T200000
DTEND;TZID=UTC:20251120T210000
DTSTAMP:20260421T105935
CREATED:20250819T120415Z
LAST-MODIFIED:20250819T120415Z
UID:9724-1763668800-1763672400@lindfieldbonfiresociety.co.uk
SUMMARY:LBS Committee Meeting
DESCRIPTION:
URL:https://lindfieldbonfiresociety.co.uk/event/lbs-committee-meeting-15/
LOCATION:King Edward Hall\, KIng Edward Hall\, Lindfield
CATEGORIES:Committee Meeting
END:VEVENT
BEGIN:VEVENT
DTSTART;TZID=UTC:20251016T200000
DTEND;TZID=UTC:20251016T210000
DTSTAMP:20260421T105935
CREATED:20250819T120454Z
LAST-MODIFIED:20250819T120454Z
UID:9723-1760644800-1760648400@lindfieldbonfiresociety.co.uk
SUMMARY:LBS Committee Meeting
DESCRIPTION:
URL:https://lindfieldbonfiresociety.co.uk/event/lbs-committee-meeting-16/
LOCATION:King Edward Hall\, KIng Edward Hall\, Lindfield
CATEGORIES:Committee Meeting
END:VEVENT
BEGIN:VEVENT
DTSTART;TZID=UTC:20250918T200000
DTEND;TZID=UTC:20250918T210000
DTSTAMP:20260421T105935
CREATED:20250819T120454Z
LAST-MODIFIED:20250819T120454Z
UID:9722-1758225600-1758229200@lindfieldbonfiresociety.co.uk
SUMMARY:LBS Committee Meeting
DESCRIPTION:
URL:https://lindfieldbonfiresociety.co.uk/event/lbs-committee-meeting-17/
LOCATION:King Edward Hall\, KIng Edward Hall\, Lindfield
CATEGORIES:Committee Meeting
END:VEVENT
BEGIN:VEVENT
DTSTART;TZID=UTC:20250821T200000
DTEND;TZID=UTC:20250821T210000
DTSTAMP:20260421T105935
CREATED:20250819T120028Z
LAST-MODIFIED:20250819T120028Z
UID:9721-1755806400-1755810000@lindfieldbonfiresociety.co.uk
SUMMARY:LBS Committee Meeting
DESCRIPTION:
URL:https://lindfieldbonfiresociety.co.uk/event/lbs-committee-meeting-13/
LOCATION:King Edward Hall\, KIng Edward Hall\, Lindfield
CATEGORIES:Committee Meeting
END:VEVENT
END:VCALENDAR